



BEGIN:VCALENDAR
VERSION:2.0
PRODID:-//wp-events-plugin.com//7.2.3.1//EN
BEGIN:VEVENT
UID:6360@labo-emc.org
DTSTART:20250312T133000Z
DTEND:20250312T160000Z
DTSTAMP:20250312T111226Z
URL:https://labo-emc.org/reservation/events/dutriaux-test/
SUMMARY:Dutriaux - Test
DESCRIPTION:
CATEGORIES:Salle C17M
END:VEVENT
END:VCALENDAR