



BEGIN:VCALENDAR
VERSION:2.0
PRODID:-//wp-events-plugin.com//7.2.3.1//EN
BEGIN:VEVENT
UID:7784@labo-emc.org
DTSTART:20260305T123000Z
DTEND:20260305T133000Z
DTSTAMP:20260227T091040Z
URL:https://labo-emc.org/reservation/events/dutriaux-poulard-chatelain-4/
SUMMARY:DUTRIAUX-POULARD-CHATELAIN
DESCRIPTION:
CATEGORIES:Salle C17i
END:VEVENT
END:VCALENDAR