



BEGIN:VCALENDAR
VERSION:2.0
PRODID:-//wp-events-plugin.com//7.2.3.1//EN
BEGIN:VEVENT
UID:7613@labo-emc.org
DTSTART:20260213T101500Z
DTEND:20260213T111500Z
DTSTAMP:20260212T134416Z
URL:https://labo-emc.org/reservation/events/dutriaux-poulard-chatelain-2/
SUMMARY:DUTRIAUX-POULARD-CHATELAIN
DESCRIPTION:
CATEGORIES:Salle C17K
END:VEVENT
END:VCALENDAR