



BEGIN:VCALENDAR
VERSION:2.0
PRODID:-//wp-events-plugin.com//7.2.3.1//EN
BEGIN:VEVENT
UID:7861@labo-emc.org
DTSTART:20260312T100000Z
DTEND:20260312T160000Z
DTSTAMP:20260304T153228Z
URL:https://labo-emc.org/reservation/events/dodin_dutriaux-8/
SUMMARY:Dodin_Dutriaux
DESCRIPTION:
CATEGORIES:Salle C17J
END:VEVENT
END:VCALENDAR