



BEGIN:VCALENDAR
VERSION:2.0
PRODID:-//wp-events-plugin.com//7.2.3.1//EN
BEGIN:VEVENT
UID:7787@labo-emc.org
DTSTART:20260304T114500Z
DTEND:20260304T130000Z
DTSTAMP:20260227T112500Z
URL:https://labo-emc.org/reservation/events/dodin_dutriaux-6/
SUMMARY:Dodin_Dutriaux
DESCRIPTION:
CATEGORIES:Salle C17J
END:VEVENT
END:VCALENDAR