



BEGIN:VCALENDAR
VERSION:2.0
PRODID:-//wp-events-plugin.com//7.2.3.1//EN
BEGIN:VEVENT
UID:7786@labo-emc.org
DTSTART:20260303T120000Z
DTEND:20260303T130000Z
DTSTAMP:20260227T111816Z
URL:https://labo-emc.org/reservation/events/dodin_dutriaux-5/
SUMMARY:Dodin_Dutriaux
DESCRIPTION:
CATEGORIES:Salle C17K
END:VEVENT
END:VCALENDAR