



BEGIN:VCALENDAR
VERSION:2.0
PRODID:-//wp-events-plugin.com//7.2.3.1//EN
BEGIN:VEVENT
UID:7828@labo-emc.org
DTSTART:20260309T140000Z
DTEND:20260309T160000Z
DTSTAMP:20260302T110639Z
URL:https://labo-emc.org/reservation/events/dicu-colliot-3/
SUMMARY:DICU - COLLIOT
DESCRIPTION:
CATEGORIES:Salle C17D
END:VEVENT
END:VCALENDAR