



BEGIN:VCALENDAR
VERSION:2.0
PRODID:-//wp-events-plugin.com//7.2.3.1//EN
BEGIN:VEVENT
UID:7244@labo-emc.org
DTSTART:20251126T141500Z
DTEND:20251126T170000Z
DTSTAMP:20251124T122933Z
URL:https://labo-emc.org/reservation/events/decision-lexicale-8/
SUMMARY:Décision lexicale
DESCRIPTION:
CATEGORIES:Salle C17N - EyeLink
END:VEVENT
END:VCALENDAR