



BEGIN:VCALENDAR
VERSION:2.0
PRODID:-//wp-events-plugin.com//7.2.3.1//EN
BEGIN:VEVENT
UID:7202@labo-emc.org
DTSTART:20251120T123000Z
DTEND:20251120T140000Z
DTSTAMP:20251116T203916Z
URL:https://labo-emc.org/reservation/events/decision-lexicale-4/
SUMMARY:Décision lexicale
DESCRIPTION:
CATEGORIES:Salle C17N - EyeLink
END:VEVENT
END:VCALENDAR