



BEGIN:VCALENDAR
VERSION:2.0
PRODID:-//wp-events-plugin.com//7.2.3.1//EN
BEGIN:VEVENT
UID:7806@labo-emc.org
DTSTART:20260305T150000Z
DTEND:20260305T170000Z
DTSTAMP:20260301T162325Z
URL:https://labo-emc.org/reservation/events/debiais-collet-9/
SUMMARY:Debiais - Collet
DESCRIPTION:
CATEGORIES:Salle C17O
END:VEVENT
END:VCALENDAR