



BEGIN:VCALENDAR
VERSION:2.0
PRODID:-//wp-events-plugin.com//7.2.3.1//EN
BEGIN:VEVENT
UID:7912@labo-emc.org
DTSTART:20260313T130000Z
DTEND:20260313T150000Z
DTSTAMP:20260306T144747Z
URL:https://labo-emc.org/reservation/events/debiais-collet-8/
SUMMARY:Debiais - Collet
DESCRIPTION:
CATEGORIES:Salle C17O
END:VEVENT
END:VCALENDAR