



BEGIN:VCALENDAR
VERSION:2.0
PRODID:-//wp-events-plugin.com//7.2.3.1//EN
BEGIN:VEVENT
UID:7802@labo-emc.org
DTSTART:20260304T130000Z
DTEND:20260304T140000Z
DTSTAMP:20260228T161441Z
URL:https://labo-emc.org/reservation/events/debiais-collet-7/
SUMMARY:Debiais - Collet
DESCRIPTION:
CATEGORIES:Salle C17L
END:VEVENT
END:VCALENDAR