



BEGIN:VCALENDAR
VERSION:2.0
PRODID:-//wp-events-plugin.com//7.2.3.1//EN
BEGIN:VEVENT
UID:7668@labo-emc.org
DTSTART:20260227T140000Z
DTEND:20260227T160000Z
DTSTAMP:20260216T162030Z
URL:https://labo-emc.org/reservation/events/debiais-collet-6/
SUMMARY:Debiais - Collet
DESCRIPTION:
CATEGORIES:Salle C17i
END:VEVENT
END:VCALENDAR