



BEGIN:VCALENDAR
VERSION:2.0
PRODID:-//wp-events-plugin.com//7.2.3.1//EN
BEGIN:VEVENT
UID:7886@labo-emc.org
DTSTART:20260306T130000Z
DTEND:20260306T150000Z
DTSTAMP:20260305T170502Z
URL:https://labo-emc.org/reservation/events/debiais-collet-10/
SUMMARY:Collet D. Doctorant
DESCRIPTION:
CATEGORIES:Salle C17F - Passation collective (6 postes)
END:VEVENT
END:VCALENDAR