



BEGIN:VCALENDAR
VERSION:2.0
PRODID:-//wp-events-plugin.com//7.2.3.1//EN
BEGIN:VEVENT
UID:7312@labo-emc.org
DTSTART:20260115T093000Z
DTEND:20260115T110000Z
DTSTAMP:20260114T170211Z
URL:https://labo-emc.org/reservation/events/collet-d/
SUMMARY:Collet D.
DESCRIPTION:
CATEGORIES:Salle C17M
END:VEVENT
END:VCALENDAR