



BEGIN:VCALENDAR
VERSION:2.0
PRODID:-//wp-events-plugin.com//7.2.3.1//EN
BEGIN:VEVENT
UID:7898@labo-emc.org
DTSTART:20260306T150000Z
DTEND:20260306T180000Z
DTSTAMP:20260305T194738Z
URL:https://labo-emc.org/reservation/events/collet-d-doctorant/
SUMMARY:Collet D. Doctorant
DESCRIPTION:
CATEGORIES:Salle C17F - Passation collective (6 postes)
END:VEVENT
END:VCALENDAR