



BEGIN:VCALENDAR
VERSION:2.0
PRODID:-//wp-events-plugin.com//7.2.3.1//EN
BEGIN:VEVENT
UID:7902@labo-emc.org
DTSTART:20260318T083000Z
DTEND:20260318T093000Z
DTSTAMP:20260305T195907Z
URL:https://labo-emc.org/reservation/events/collet-d-doctorant-5/
SUMMARY:Collet D. Doctorant
DESCRIPTION:
CATEGORIES:Salle C17D
END:VEVENT
END:VCALENDAR