



BEGIN:VCALENDAR
VERSION:2.0
PRODID:-//wp-events-plugin.com//7.2.3.1//EN
BEGIN:VEVENT
UID:7901@labo-emc.org
DTSTART:20260316T140000Z
DTEND:20260316T150000Z
DTSTAMP:20260305T195814Z
URL:https://labo-emc.org/reservation/events/collet-d-doctorant-4/
SUMMARY:Collet D. Doctorant
DESCRIPTION:
CATEGORIES:Salle C17D
END:VEVENT
END:VCALENDAR