



BEGIN:VCALENDAR
VERSION:2.0
PRODID:-//wp-events-plugin.com//7.2.3.1//EN
BEGIN:VEVENT
UID:7900@labo-emc.org
DTSTART:20260313T160000Z
DTEND:20260313T170000Z
DTSTAMP:20260305T195720Z
URL:https://labo-emc.org/reservation/events/collet-d-doctorant-3/
SUMMARY:Collet D. Doctorant
DESCRIPTION:
CATEGORIES:Salle C17D
END:VEVENT
END:VCALENDAR