



BEGIN:VCALENDAR
VERSION:2.0
PRODID:-//wp-events-plugin.com//7.2.3.1//EN
BEGIN:VEVENT
UID:7899@labo-emc.org
DTSTART:20260313T100000Z
DTEND:20260313T120000Z
DTSTAMP:20260305T195515Z
URL:https://labo-emc.org/reservation/events/collet-d-doctorant-2/
SUMMARY:Collet D. Doctorant
DESCRIPTION:
CATEGORIES:Salle C17D
END:VEVENT
END:VCALENDAR