



BEGIN:VCALENDAR
VERSION:2.0
PRODID:-//wp-events-plugin.com//7.2.3.1//EN
BEGIN:VEVENT
UID:7341@labo-emc.org
DTSTART:20260122T133000Z
DTEND:20260122T151500Z
DTSTAMP:20260121T143002Z
URL:https://labo-emc.org/reservation/events/collet-d-7/
SUMMARY:Collet D.
DESCRIPTION:
CATEGORIES:Salle C17L
END:VEVENT
END:VCALENDAR