



BEGIN:VCALENDAR
VERSION:2.0
PRODID:-//wp-events-plugin.com//7.2.3.1//EN
BEGIN:VEVENT
UID:7340@labo-emc.org
DTSTART:20260121T130000Z
DTEND:20260121T144500Z
DTSTAMP:20260121T114749Z
URL:https://labo-emc.org/reservation/events/collet-d-6/
SUMMARY:Collet D.
DESCRIPTION:
CATEGORIES:Salle C17L
END:VEVENT
END:VCALENDAR