



BEGIN:VCALENDAR
VERSION:2.0
PRODID:-//wp-events-plugin.com//7.2.3.1//EN
BEGIN:VEVENT
UID:7652@labo-emc.org
DTSTART:20260223T140000Z
DTEND:20260223T163000Z
DTSTAMP:20260215T160216Z
URL:https://labo-emc.org/reservation/events/collet-d-51/
SUMMARY:Collet D.
DESCRIPTION:
CATEGORIES:Salle C17D
END:VEVENT
END:VCALENDAR