



BEGIN:VCALENDAR
VERSION:2.0
PRODID:-//wp-events-plugin.com//7.2.3.1//EN
BEGIN:VEVENT
UID:7493@labo-emc.org
DTSTART:20260205T173000Z
DTEND:20260205T184500Z
DTSTAMP:20260202T170606Z
URL:https://labo-emc.org/reservation/events/collet-d-33/
SUMMARY:Collet D.
DESCRIPTION:
CATEGORIES:Salle C17L
END:VEVENT
END:VCALENDAR