



BEGIN:VCALENDAR
VERSION:2.0
PRODID:-//wp-events-plugin.com//7.2.3.1//EN
BEGIN:VEVENT
UID:7581@labo-emc.org
DTSTART:20260211T103000Z
DTEND:20260211T120000Z
DTSTAMP:20260209T164855Z
URL:https://labo-emc.org/reservation/events/collet-d-31/
SUMMARY:Collet D.
DESCRIPTION:
CATEGORIES:Salle C17M
END:VEVENT
END:VCALENDAR