



BEGIN:VCALENDAR
VERSION:2.0
PRODID:-//wp-events-plugin.com//7.2.3.1//EN
BEGIN:VEVENT
UID:7467@labo-emc.org
DTSTART:20260206T090000Z
DTEND:20260206T103000Z
DTSTAMP:20260201T182850Z
URL:https://labo-emc.org/reservation/events/collet-d-30/
SUMMARY:Collet D.
DESCRIPTION:
CATEGORIES:Salle C17L
END:VEVENT
END:VCALENDAR