



BEGIN:VCALENDAR
VERSION:2.0
PRODID:-//wp-events-plugin.com//7.2.3.1//EN
BEGIN:VEVENT
UID:7318@labo-emc.org
DTSTART:20260119T160000Z
DTEND:20260119T173000Z
DTSTAMP:20260116T162323Z
URL:https://labo-emc.org/reservation/events/collet-d-3/
SUMMARY:Collet D.
DESCRIPTION:
CATEGORIES:Salle C17L
END:VEVENT
END:VCALENDAR