



BEGIN:VCALENDAR
VERSION:2.0
PRODID:-//wp-events-plugin.com//7.2.3.1//EN
BEGIN:VEVENT
UID:7465@labo-emc.org
DTSTART:20260205T130000Z
DTEND:20260205T143000Z
DTSTAMP:20260201T175325Z
URL:https://labo-emc.org/reservation/events/collet-d-28/
SUMMARY:Collet D.
DESCRIPTION:
CATEGORIES:Salle C17D
END:VEVENT
END:VCALENDAR