



BEGIN:VCALENDAR
VERSION:2.0
PRODID:-//wp-events-plugin.com//7.2.3.1//EN
BEGIN:VEVENT
UID:7462@labo-emc.org
DTSTART:20260202T100000Z
DTEND:20260202T130000Z
DTSTAMP:20260201T165055Z
URL:https://labo-emc.org/reservation/events/collet-d-25/
SUMMARY:Collet D.
DESCRIPTION:
CATEGORIES:Salle C17D
END:VEVENT
END:VCALENDAR