



BEGIN:VCALENDAR
VERSION:2.0
PRODID:-//wp-events-plugin.com//7.2.3.1//EN
BEGIN:VEVENT
UID:7346@labo-emc.org
DTSTART:20260129T133000Z
DTEND:20260129T144500Z
DTSTAMP:20260122T075806Z
URL:https://labo-emc.org/reservation/events/collet-d-12/
SUMMARY:Collet D.
DESCRIPTION:
CATEGORIES:Salle C17L
END:VEVENT
END:VCALENDAR