



BEGIN:VCALENDAR
VERSION:2.0
PRODID:-//wp-events-plugin.com//7.2.3.1//EN
BEGIN:VEVENT
UID:7345@labo-emc.org
DTSTART:20260128T130000Z
DTEND:20260128T141500Z
DTSTAMP:20260122T075735Z
URL:https://labo-emc.org/reservation/events/collet-d-11/
SUMMARY:Collet D.
DESCRIPTION:
CATEGORIES:Salle C17L
END:VEVENT
END:VCALENDAR