



BEGIN:VCALENDAR
VERSION:2.0
PRODID:-//wp-events-plugin.com//7.2.3.1//EN
BEGIN:VEVENT
UID:6134@labo-emc.org
DTSTART:20250221T090000Z
DTEND:20250221T151500Z
DTSTAMP:20250219T085237Z
URL:https://labo-emc.org/reservation/events/collet-chainay-46/
SUMMARY:COLLET - CHAINAY
DESCRIPTION:
CATEGORIES:Salle C17L
END:VEVENT
END:VCALENDAR