



BEGIN:VCALENDAR
VERSION:2.0
PRODID:-//wp-events-plugin.com//7.2.3.1//EN
BEGIN:VEVENT
UID:5969@labo-emc.org
DTSTART:20250127T143000Z
DTEND:20250127T170000Z
DTSTAMP:20250127T110753Z
URL:https://labo-emc.org/reservation/events/collet-chainay-27/
SUMMARY:Collet - Chainay
DESCRIPTION:
CATEGORIES:Salle C17M
END:VEVENT
END:VCALENDAR