



BEGIN:VCALENDAR
VERSION:2.0
PRODID:-//wp-events-plugin.com//7.2.3.1//EN
BEGIN:VEVENT
UID:5837@labo-emc.org
DTSTART:20241210T130000Z
DTEND:20241210T160000Z
DTSTAMP:20241209T192113Z
URL:https://labo-emc.org/reservation/events/collet-chainay-20/
SUMMARY:Collet - Chainay
DESCRIPTION:
CATEGORIES:Salle C17M
END:VEVENT
END:VCALENDAR