



BEGIN:VCALENDAR
VERSION:2.0
PRODID:-//wp-events-plugin.com//7.2.3.1//EN
BEGIN:VEVENT
UID:5823@labo-emc.org
DTSTART:20241205T154500Z
DTEND:20241205T173000Z
DTSTAMP:20241205T102657Z
URL:https://labo-emc.org/reservation/events/collet-chainay-18/
SUMMARY:Collet - Chainay
DESCRIPTION:
CATEGORIES:Salle C17M
END:VEVENT
END:VCALENDAR