



BEGIN:VCALENDAR
VERSION:2.0
PRODID:-//wp-events-plugin.com//7.2.3.1//EN
BEGIN:VEVENT
UID:7856@labo-emc.org
DTSTART:20260305T140000Z
DTEND:20260305T153000Z
DTSTAMP:20260304T110141Z
URL:https://labo-emc.org/reservation/events/colas-le-clezio/
SUMMARY:COLAS - Le Clézio
DESCRIPTION:
CATEGORIES:Salle C17F - Passation collective (6 postes)
END:VEVENT
END:VCALENDAR