



BEGIN:VCALENDAR
VERSION:2.0
PRODID:-//wp-events-plugin.com//7.2.3.1//EN
BEGIN:VEVENT
UID:7894@labo-emc.org
DTSTART:20260312T140000Z
DTEND:20260312T153000Z
DTSTAMP:20260305T172317Z
URL:https://labo-emc.org/reservation/events/colas-le-clezio-2/
SUMMARY:Colas - Le Clézio
DESCRIPTION:
CATEGORIES:Salle C17F - Passation collective (6 postes)
END:VEVENT
END:VCALENDAR