



BEGIN:VCALENDAR
VERSION:2.0
PRODID:-//wp-events-plugin.com//7.2.3.1//EN
BEGIN:VEVENT
UID:7556@labo-emc.org
DTSTART:20260211T130000Z
DTEND:20260211T160000Z
DTSTAMP:20260206T124446Z
URL:https://labo-emc.org/reservation/events/chereau-duran-24/
SUMMARY:Chereau - Duran
DESCRIPTION:
END:VEVENT
END:VCALENDAR