



BEGIN:VCALENDAR
VERSION:2.0
PRODID:-//wp-events-plugin.com//7.2.3.1//EN
BEGIN:VEVENT
UID:7393@labo-emc.org
DTSTART:20260202T130000Z
DTEND:20260202T160000Z
DTSTAMP:20260128T115713Z
URL:https://labo-emc.org/reservation/events/chereau-duran-18/
SUMMARY:Chereau - Duran
DESCRIPTION:
END:VEVENT
END:VCALENDAR