



BEGIN:VCALENDAR
VERSION:2.0
PRODID:-//wp-events-plugin.com//7.2.3.1//EN
BEGIN:VEVENT
UID:7382@labo-emc.org
DTSTART:20260128T130000Z
DTEND:20260128T160000Z
DTSTAMP:20260127T122332Z
URL:https://labo-emc.org/reservation/events/chereau-duran-16/
SUMMARY:Chereau - Duran
DESCRIPTION:
END:VEVENT
END:VCALENDAR