



BEGIN:VCALENDAR
VERSION:2.0
PRODID:-//wp-events-plugin.com//7.2.3.1//EN
BEGIN:VEVENT
UID:7368@labo-emc.org
DTSTART:20260126T130000Z
DTEND:20260126T160000Z
DTSTAMP:20260126T102807Z
URL:https://labo-emc.org/reservation/events/chereau-duran-13/
SUMMARY:Chereau - Duran
DESCRIPTION:
END:VEVENT
END:VCALENDAR