



BEGIN:VCALENDAR
VERSION:2.0
PRODID:-//wp-events-plugin.com//7.2.3.1//EN
BEGIN:VEVENT
UID:7322@labo-emc.org
DTSTART:20260119T093000Z
DTEND:20260119T160000Z
DTSTAMP:20260118T220651Z
URL:https://labo-emc.org/reservation/events/chereau-duran-10/
SUMMARY:Chereau - Duran
DESCRIPTION:
END:VEVENT
END:VCALENDAR