



BEGIN:VCALENDAR
VERSION:2.0
PRODID:-//wp-events-plugin.com//7.2.3.1//EN
BEGIN:VEVENT
UID:7897@labo-emc.org
DTSTART:20260311T110000Z
DTEND:20260311T130000Z
DTSTAMP:20260305T181013Z
URL:https://labo-emc.org/reservation/events/chatelain-poulard-dutriaux-8/
SUMMARY:CHATELAIN POULARD DUTRIAUX
DESCRIPTION:
CATEGORIES:Salle C17J
END:VEVENT
END:VCALENDAR