



BEGIN:VCALENDAR
VERSION:2.0
PRODID:-//wp-events-plugin.com//7.2.3.1//EN
BEGIN:VEVENT
UID:7782@labo-emc.org
DTSTART:20260227T104500Z
DTEND:20260227T114500Z
DTSTAMP:20260227T073237Z
URL:https://labo-emc.org/reservation/events/chatelain-poulard-dutriaux-4/
SUMMARY:CHATELAIN POULARD DUTRIAUX
DESCRIPTION:
CATEGORIES:Salle C17J
END:VEVENT
END:VCALENDAR