



BEGIN:VCALENDAR
VERSION:2.0
PRODID:-//wp-events-plugin.com//7.2.3.1//EN
BEGIN:VEVENT
UID:7771@labo-emc.org
DTSTART:20260302T120000Z
DTEND:20260302T130000Z
DTSTAMP:20260226T163738Z
URL:https://labo-emc.org/reservation/events/chatelain-poulard-dutriaux-3/
SUMMARY:CHATELAIN POULARD DUTRIAUX
DESCRIPTION:
CATEGORIES:Salle C17i
END:VEVENT
END:VCALENDAR