



BEGIN:VCALENDAR
VERSION:2.0
PRODID:-//wp-events-plugin.com//7.2.3.1//EN
BEGIN:VEVENT
UID:7754@labo-emc.org
DTSTART:20260227T150000Z
DTEND:20260227T163000Z
DTSTAMP:20260226T122028Z
URL:https://labo-emc.org/reservation/events/chatelain-poulard-dutriaux-2/
SUMMARY:CHATELAIN POULARD DUTRIAUX
DESCRIPTION:
CATEGORIES:Salle C17J
END:VEVENT
END:VCALENDAR