



BEGIN:VCALENDAR
VERSION:2.0
PRODID:-//wp-events-plugin.com//7.2.3.1//EN
BEGIN:VEVENT
UID:7641@labo-emc.org
DTSTART:20260213T150000Z
DTEND:20260213T170000Z
DTSTAMP:20260213T111557Z
URL:https://labo-emc.org/reservation/events/chainay-afandi-perrot-4/
SUMMARY:CHAINAY-AFANDI-PERROT
DESCRIPTION:
CATEGORIES:Salle C17N - EyeLink
END:VEVENT
END:VCALENDAR