



BEGIN:VCALENDAR
VERSION:2.0
PRODID:-//wp-events-plugin.com//7.2.3.1//EN
BEGIN:VEVENT
UID:7610@labo-emc.org
DTSTART:20260211T160000Z
DTEND:20260211T170000Z
DTSTAMP:20260211T145304Z
URL:https://labo-emc.org/reservation/events/chainay-afandi-perrot-2/
SUMMARY:CHAINAY-AFANDI-PERROT
DESCRIPTION:
CATEGORIES:Salle C17N - EyeLink
END:VEVENT
END:VCALENDAR