



BEGIN:VCALENDAR
VERSION:2.0
PRODID:-//wp-events-plugin.com//7.2.3.1//EN
BEGIN:VEVENT
UID:6188@labo-emc.org
DTSTART:20250224T163000Z
DTEND:20250224T180000Z
DTSTAMP:20260421T183112Z
URL:
SUMMARY:CHAHBOUN-Duran
DESCRIPTION:
END:VEVENT
END:VCALENDAR