



BEGIN:VCALENDAR
VERSION:2.0
PRODID:-//wp-events-plugin.com//7.2.3.1//EN
BEGIN:VEVENT
UID:7837@labo-emc.org
DTSTART;TZID=Europe/Paris:20260303T140000
DTEND;TZID=Europe/Paris:20260303T150000
DTSTAMP:20260302T184249Z
URL:https://labo-emc.org/reservation/events/cazeau-pedraza-8/
SUMMARY:Cazeau - Pedraza
DESCRIPTION:
CATEGORIES:Salle C17K
END:VEVENT
BEGIN:VTIMEZONE
TZID:Europe/Paris
X-LIC-LOCATION:Europe/Paris
BEGIN:STANDARD
DTSTART:20251026T020000
TZOFFSETFROM:+0200
TZOFFSETTO:+0100
TZNAME:CET
END:STANDARD
END:VTIMEZONE
END:VCALENDAR